BEGIN:VCALENDAR
PRODID:-//PUBBLE//agenda//NL
VERSION:2.0
METHOD:PUBLISH
BEGIN:VEVENT
DTSTART:20260502T080000Z
DTEND:20260503T143000Z
DTSTAMP:20260422T172234Z
UID:19b32353-9ee3-4372-b421-ddf5904d7daf
CREATED:20260422T172234Z
NAME:Kasteelfair Doornenburg gemeentenieuwsonline.nl
X-WR-CALNAME:Kasteelfair Doornenburg
X-ALT-DESC;FMTTYPE=text/html:<a href='/agenda/2026/5/2/kasteelfair-doornenburg-216756'>/agenda/2026/5/2/kasteelfair-doornenburg-216756</a> || <p>DOORNENBURG - Op zaterdag 2 en zondag 3 mei 2026 vindt de Doornenburgse Kasteelfair plaats, op de Voorburcht van het indrukwekkende Kasteel Doornenburg</p><p>Tijdens deze sfeervolle fair presenteren diverse standhouders een gevarieerd aanbod van woonaccessoires, mode, antiek, brocante enz.</p><p>Bezoekers kunnen genieten van de historische ambiance en ontspannen op het terras van De Herberg.</p><p>Het kasteel is tijdens het weekend ook te bezichtigen (reserveren via de website van het kasteel wordt aanbevolen).</p><p>Openingstijden</p><p>Zaterdag 2 mei 2026: 10.00 – 16.30 uur</p><p>Zondag 3 mei 2026: 10.00 – 16.30 uur</p>
DESCRIPTION:<a href='/agenda/2026/5/2/kasteelfair-doornenburg-216756'>/agenda/2026/5/2/kasteelfair-doornenburg-216756</a> || <p>DOORNENBURG - Op zaterdag 2 en zondag 3 mei 2026 vindt de Doornenburgse Kasteelfair plaats, op de Voorburcht van het indrukwekkende Kasteel Doornenburg</p><p>Tijdens deze sfeervolle fair presenteren diverse standhouders een gevarieerd aanbod van woonaccessoires, mode, antiek, brocante enz.</p><p>Bezoekers kunnen genieten van de historische ambiance en ontspannen op het terras van De Herberg.</p><p>Het kasteel is tijdens het weekend ook te bezichtigen (reserveren via de website van het kasteel wordt aanbevolen).</p><p>Openingstijden</p><p>Zaterdag 2 mei 2026: 10.00 – 16.30 uur</p><p>Zondag 3 mei 2026: 10.00 – 16.30 uur</p>
LAST-MODIFIED:20260422T172234Z
LOCATION: Kasteel Doornenburg | Kerkstraat 27 Doornenburg
SEQUENCE:0
STATUS:CONFIRMED
SUMMARY:Kasteelfair Doornenburg
TRANSP:OPAQUE
END:VEVENT
END:VCALENDAR
